BEGIN:VCALENDAR
VERSION:2.0
PRODID:-//Association Messine de Taichi Chuan - ECPv6.15.17//NONSGML v1.0//EN
CALSCALE:GREGORIAN
METHOD:PUBLISH
X-ORIGINAL-URL:https://amtc-moselle.fr
X-WR-CALDESC:Évènements pour Association Messine de Taichi Chuan
REFRESH-INTERVAL;VALUE=DURATION:PT1H
X-Robots-Tag:noindex
X-PUBLISHED-TTL:PT1H
BEGIN:VTIMEZONE
TZID:Europe/Paris
BEGIN:DAYLIGHT
TZOFFSETFROM:+0100
TZOFFSETTO:+0200
TZNAME:CEST
DTSTART:20250330T010000
END:DAYLIGHT
BEGIN:STANDARD
TZOFFSETFROM:+0200
TZOFFSETTO:+0100
TZNAME:CET
DTSTART:20251026T010000
END:STANDARD
BEGIN:DAYLIGHT
TZOFFSETFROM:+0100
TZOFFSETTO:+0200
TZNAME:CEST
DTSTART:20260329T010000
END:DAYLIGHT
BEGIN:STANDARD
TZOFFSETFROM:+0200
TZOFFSETTO:+0100
TZNAME:CET
DTSTART:20261025T010000
END:STANDARD
BEGIN:DAYLIGHT
TZOFFSETFROM:+0100
TZOFFSETTO:+0200
TZNAME:CEST
DTSTART:20270328T010000
END:DAYLIGHT
BEGIN:STANDARD
TZOFFSETFROM:+0200
TZOFFSETTO:+0100
TZNAME:CET
DTSTART:20271031T010000
END:STANDARD
END:VTIMEZONE
BEGIN:VEVENT
DTSTART;TZID=Europe/Paris:20260704T093000
DTEND;TZID=Europe/Paris:20260710T103000
DTSTAMP:20260421T195222
CREATED:20250819T122536Z
LAST-MODIFIED:20260330T131712Z
UID:3042-1783157400-1783679400@amtc-moselle.fr
SUMMARY:Semaine de Taichi Chuan
DESCRIPTION:Séances découverte/initiation et de perfectionnement de taichi chuan\nDu 4 juillet au 10 juillet en matinée \nLIEU: à l’arrière du château de Courcelles dans le parc \nannulation en cas de pluie \nlibre participation de tous les pratiquants de l’école sous forme d’ateliers en autonomie
URL:https://amtc-moselle.fr/event/semaine-decouverte-initiation-perfectionnement-de-taichi-chuan-juillet-2026/
LOCATION:Parc derrière le château de Courcelles\, 73 rue de Pont-à-Mousson\, Montigny-lès-Metz\, 57950\, France
ORGANIZER;CN="amtc":MAILTO:amtc.moselle@gmail.com
END:VEVENT
END:VCALENDAR