BEGIN:VCALENDAR
VERSION:2.0
PRODID:-//Association Messine de Taichi Chuan - ECPv6.15.17//NONSGML v1.0//EN
CALSCALE:GREGORIAN
METHOD:PUBLISH
X-WR-CALNAME:Association Messine de Taichi Chuan
X-ORIGINAL-URL:https://amtc-moselle.fr
X-WR-CALDESC:Évènements pour Association Messine de Taichi Chuan
REFRESH-INTERVAL;VALUE=DURATION:PT1H
X-Robots-Tag:noindex
X-PUBLISHED-TTL:PT1H
BEGIN:VTIMEZONE
TZID:Europe/Paris
BEGIN:DAYLIGHT
TZOFFSETFROM:+0100
TZOFFSETTO:+0200
TZNAME:CEST
DTSTART:20250330T010000
END:DAYLIGHT
BEGIN:STANDARD
TZOFFSETFROM:+0200
TZOFFSETTO:+0100
TZNAME:CET
DTSTART:20251026T010000
END:STANDARD
BEGIN:DAYLIGHT
TZOFFSETFROM:+0100
TZOFFSETTO:+0200
TZNAME:CEST
DTSTART:20260329T010000
END:DAYLIGHT
BEGIN:STANDARD
TZOFFSETFROM:+0200
TZOFFSETTO:+0100
TZNAME:CET
DTSTART:20261025T010000
END:STANDARD
BEGIN:DAYLIGHT
TZOFFSETFROM:+0100
TZOFFSETTO:+0200
TZNAME:CEST
DTSTART:20270328T010000
END:DAYLIGHT
BEGIN:STANDARD
TZOFFSETFROM:+0200
TZOFFSETTO:+0100
TZNAME:CET
DTSTART:20271031T010000
END:STANDARD
END:VTIMEZONE
BEGIN:VEVENT
DTSTART;TZID=Europe/Paris:20260322T090000
DTEND;TZID=Europe/Paris:20260322T120000
DTSTAMP:20260421T145249
CREATED:20250819T083759Z
LAST-MODIFIED:20250819T125518Z
UID:3025-1774170000-1774180800@amtc-moselle.fr
SUMMARY:Stage de Taichi Chuan - Forme et applications martiales
DESCRIPTION:Inscription obligatoire
URL:https://amtc-moselle.fr/event/stage-de-taichi-chuan-forme-et-applications-martiales/
LOCATION:Gymnase Sainte Barbe\, 4 rue Rochambeau\, Metz\, France
ORGANIZER;CN="amtc":MAILTO:amtc.moselle@gmail.com
END:VEVENT
END:VCALENDAR