BEGIN:VCALENDAR
VERSION:2.0
PRODID:-//Association Messine de Taichi Chuan - ECPv6.15.17//NONSGML v1.0//EN
CALSCALE:GREGORIAN
METHOD:PUBLISH
X-WR-CALNAME:Association Messine de Taichi Chuan
X-ORIGINAL-URL:https://amtc-moselle.fr
X-WR-CALDESC:Évènements pour Association Messine de Taichi Chuan
REFRESH-INTERVAL;VALUE=DURATION:PT1H
X-Robots-Tag:noindex
X-PUBLISHED-TTL:PT1H
BEGIN:VTIMEZONE
TZID:Europe/Paris
BEGIN:DAYLIGHT
TZOFFSETFROM:+0100
TZOFFSETTO:+0200
TZNAME:CEST
DTSTART:20250330T010000
END:DAYLIGHT
BEGIN:STANDARD
TZOFFSETFROM:+0200
TZOFFSETTO:+0100
TZNAME:CET
DTSTART:20251026T010000
END:STANDARD
BEGIN:DAYLIGHT
TZOFFSETFROM:+0100
TZOFFSETTO:+0200
TZNAME:CEST
DTSTART:20260329T010000
END:DAYLIGHT
BEGIN:STANDARD
TZOFFSETFROM:+0200
TZOFFSETTO:+0100
TZNAME:CET
DTSTART:20261025T010000
END:STANDARD
BEGIN:DAYLIGHT
TZOFFSETFROM:+0100
TZOFFSETTO:+0200
TZNAME:CEST
DTSTART:20270328T010000
END:DAYLIGHT
BEGIN:STANDARD
TZOFFSETFROM:+0200
TZOFFSETTO:+0100
TZNAME:CET
DTSTART:20271031T010000
END:STANDARD
END:VTIMEZONE
BEGIN:VEVENT
DTSTART;TZID=Europe/Paris:20260509T093000
DTEND;TZID=Europe/Paris:20260509T160000
DTSTAMP:20260421T145452
CREATED:20260323T090224Z
LAST-MODIFIED:20260323T102741Z
UID:3036-1778319000-1778342400@amtc-moselle.fr
SUMMARY:Journée immersion - Taichi Chuan le 9 Mai 2026
DESCRIPTION:Journée\nForme et applications\nPerfectionnement (Journée) et initiation possible le MATIN seulement\nInscription obligatoire \n60€ journée et 40€ demi-journée \nHoraires 9h30-12h30/13h30-16h00\nRepas tiré du sac
URL:https://amtc-moselle.fr/event/journee-immersion-taichi-chuan-9-mai-plappeville-57-2026/
LOCATION:Salle polyvalente de Plappeville\, Rue Charles de Gaulle\, Plappeville
ORGANIZER;CN="amtc":MAILTO:amtc.moselle@gmail.com
END:VEVENT
END:VCALENDAR